BEGIN:VCALENDAR
VERSION:2.0
PRODID:-//jEvents 2.0 for Joomla//EN
CALSCALE:GREGORIAN
METHOD:PUBLISH
BEGIN:VEVENT
UID:8dfdfadb199b599cc959dd927d465c4a
CATEGORIES:Boule
SUMMARY:Frühlingserwachen - Doublette Mixte
LOCATION:Boulodrome Dreieichenhain
DESCRIPTION;ENCODING=QUOTED-PRINTABLE:\n\n25.03.2023 Lizenzturnier\n\n\nEinschreibeschluss 9:30 Uhr\n
CONTACT:S.Wagener
DTSTAMP:20260419T223423Z
DTSTART:20230325T083000Z
SEQUENCE:0
TRANSP:OPAQUE
END:VEVENT
END:VCALENDAR